BEGIN:VCALENDAR
VERSION:2.0
PRODID:-//European Sports Connected - ECPv6.6.0.2//NONSGML v1.0//EN
CALSCALE:GREGORIAN
METHOD:PUBLISH
X-WR-CALNAME:European Sports Connected
X-ORIGINAL-URL:https://europeansportsconnected.org
X-WR-CALDESC:Events for European Sports Connected
REFRESH-INTERVAL;VALUE=DURATION:PT1H
X-Robots-Tag:noindex
X-PUBLISHED-TTL:PT1H
BEGIN:VTIMEZONE
TZID:UTC
BEGIN:STANDARD
TZOFFSETFROM:+0000
TZOFFSETTO:+0000
TZNAME:UTC
DTSTART:20210101T000000
END:STANDARD
END:VTIMEZONE
BEGIN:VEVENT
DTSTART;VALUE=DATE:20210306
DTEND;VALUE=DATE:20211108
DTSTAMP:20260424T014744
CREATED:20210415T122700Z
LAST-MODIFIED:20210415T125010Z
UID:669-1614988800-1636329599@europeansportsconnected.org
SUMMARY:Rugby Europe Men XV Championship 2021
DESCRIPTION:The Rugby Europe Championship 2021 forms part of the qualification process for the Rugby World Cup 2023 in France.  \nThe new season will start in March 2021 and will take the form of an adapted schedule due to the Covid-19 pandemic and to the postponement of the play-off Match between Netherlands and Belgium\, to be played before June 13th 2021. \n  \n \n 
URL:https://europeansportsconnected.org/sports-events/men-xv-rugby-europe-championship-2021/
CATEGORIES:European Championships
ATTACH;FMTTYPE=image/jpeg:https://europeansportsconnected.org/wp-content/uploads/2021/04/e56ecca6efa592fbfc77152b44b8ec2f4e778bf9.jpg
END:VEVENT
BEGIN:VEVENT
DTSTART;VALUE=DATE:20210602
DTEND;VALUE=DATE:20210607
DTSTAMP:20260424T014744
CREATED:20210415T092003Z
LAST-MODIFIED:20210415T125457Z
UID:627-1622592000-1623023999@europeansportsconnected.org
SUMMARY:ECA Canoe Sprint and Paracanoe European Championships 2021  Duisburg Germany
DESCRIPTION:Bulletin: https://www.canoe-europe.org/preview-file/2021-01-18-bulletin-no-1-duisburg-2021-4083.pdf \n  \n 
URL:https://europeansportsconnected.org/sports-events/eca-canoe-sprint-and-paracanoe-european-championships-2021-duisburg-germany/
CATEGORIES:European Championships
ATTACH;FMTTYPE=image/jpeg:https://europeansportsconnected.org/wp-content/uploads/2021/04/ecaslalomcup-2623.jpg.jpeg
ORGANIZER;CN="ECA European Canoe Association":MAILTO:ecaofficezagreb@gmail.com
END:VEVENT
BEGIN:VEVENT
DTSTART;VALUE=DATE:20210604
DTEND;VALUE=DATE:20210613
DTSTAMP:20260424T014744
CREATED:20210414T213206Z
LAST-MODIFIED:20210415T125449Z
UID:472-1622764800-1623542399@europeansportsconnected.org
SUMMARY:EuroHockey Men's Nations Championship - Amsterdam - 2021
DESCRIPTION:The 2021 Men’s EuroHockey Championship will be the eighteenth edition of the EuroHockey Nations Championship\, the biennial international men’s field hockey championship of Europe organised by the European Hockey Federation. \nThe tournament will be held alongside the women’s tournament at the Wagener Stadium in Amstelveen\, Netherlands and was originally scheduled to take place from 20 to 29 August 2021. However\, following the postponement of the 2020 Summer Olympics to July and August 2021 because of the COVID-19 pandemic the tournament was rescheduled and will take place from 4 to 13 June 2021. \nThe top five teams will qualify for the 2023 FIH Hockey World Cup. Belgium are the defending champions\, winning the 2019 edition.
URL:https://europeansportsconnected.org/sports-events/eurohockey-mens-nations-championship-amsterdam-2021/
CATEGORIES:European Championships
ATTACH;FMTTYPE=image/jpeg:https://europeansportsconnected.org/wp-content/uploads/2021/04/2021_EuroHockey_Championships_logo.jpg
ORGANIZER;CN="European Hockey Federation":MAILTO:info@eurohockey.org
END:VEVENT
END:VCALENDAR