BEGIN:VCALENDAR
VERSION:2.0
PRODID:-//European Sports Connected - ECPv6.6.0.2//NONSGML v1.0//EN
CALSCALE:GREGORIAN
METHOD:PUBLISH
X-WR-CALNAME:European Sports Connected
X-ORIGINAL-URL:https://europeansportsconnected.org
X-WR-CALDESC:Events for European Sports Connected
REFRESH-INTERVAL;VALUE=DURATION:PT1H
X-Robots-Tag:noindex
X-PUBLISHED-TTL:PT1H
BEGIN:VTIMEZONE
TZID:UTC
BEGIN:STANDARD
TZOFFSETFROM:+0000
TZOFFSETTO:+0000
TZNAME:UTC
DTSTART:20210101T000000
END:STANDARD
END:VTIMEZONE
BEGIN:VEVENT
DTSTART;VALUE=DATE:20210306
DTEND;VALUE=DATE:20211108
DTSTAMP:20260423T203251
CREATED:20210415T122700Z
LAST-MODIFIED:20210415T125010Z
UID:669-1614988800-1636329599@europeansportsconnected.org
SUMMARY:Rugby Europe Men XV Championship 2021
DESCRIPTION:The Rugby Europe Championship 2021 forms part of the qualification process for the Rugby World Cup 2023 in France.  \nThe new season will start in March 2021 and will take the form of an adapted schedule due to the Covid-19 pandemic and to the postponement of the play-off Match between Netherlands and Belgium\, to be played before June 13th 2021. \n  \n \n 
URL:https://europeansportsconnected.org/sports-events/men-xv-rugby-europe-championship-2021/
CATEGORIES:European Championships
ATTACH;FMTTYPE=image/jpeg:https://europeansportsconnected.org/wp-content/uploads/2021/04/e56ecca6efa592fbfc77152b44b8ec2f4e778bf9.jpg
END:VEVENT
BEGIN:VEVENT
DTSTART;VALUE=DATE:20210824
DTEND;VALUE=DATE:20210906
DTSTAMP:20260423T203251
CREATED:20210414T203402Z
LAST-MODIFIED:20210415T125336Z
UID:461-1629763200-1630886399@europeansportsconnected.org
SUMMARY:Paralympic Games Tokyo 2020
DESCRIPTION:The Tokyo Paralympic Games will be held from 24 August – 5 September 2021. \nA total of 22 sports are scheduled for inclusion in the Tokyo 2020 Paralympic Games. Badminton and Taekwondo will be making their debut at the 2020 Paralympic Games. \nUnity in Diversity \nAccepting and respecting differences in race\, colour\, gender\, sexual orientation\, language\, religion\, political or other opinion\, national or social origin\, property\, birth\, level of ability or other status allows peace to be maintained and society to continue to develop and flourish. \nThe Tokyo 2020 Games will foster a welcoming environment and raise awareness of unity in diversity among citizens of the world. \nConnecting to Tomorrow \nThe Tokyo 1964 Games completely transformed Japan\, enhanced Japanese people’s awareness of the outside world and helped bring about rapid growth of Japan’s economy. \nThe 2020 Games will enable Japan\, now a mature economy\, to promote future changes throughout the world\, and leave a positive legacy for future generations. \n＊While all possible COVID-19 countermeasures will be taken\, events may be cancelled or their content changed depending on the COVID-19 situation.
URL:https://europeansportsconnected.org/sports-events/paralympic-games-tokyo-2020/
CATEGORIES:Paralympic Games
ATTACH;FMTTYPE=image/jpeg:https://europeansportsconnected.org/wp-content/uploads/2021/04/180824082638223_Tokyo-2020-logo-for-stories.jpg
END:VEVENT
BEGIN:VEVENT
DTSTART;VALUE=DATE:20210901
DTEND;VALUE=DATE:20210920
DTSTAMP:20260423T203251
CREATED:20210414T213813Z
LAST-MODIFIED:20210415T125257Z
UID:477-1630454400-1632095999@europeansportsconnected.org
SUMMARY:European Men's Volleyball Championship - 2021 - Poland\, Czech Republic\, Estonia and Finland.
DESCRIPTION:The 2021 Men’s European Volleyball Championship will be the 32nd edition of the Men’s European Volleyball Championship\, organised by Europe’s governing volleyball body\, the CEV. For the second time the EuroVolley will be held in four countries: Poland\, Czech Republic\, Estonia and Finland. The number of national teams that will participate in the event remains to 24. \nIn Poland\, matches will be played in Gdańsk\, Katowice and Kraków. In Finland\, matches will be played in Tampere. In Czech Republic\, matches will be played in Ostrava. In Estonia\, matches will be played in Tallinn.
URL:https://europeansportsconnected.org/sports-events/european-mens-volleyball-championship-2021-poland-czech-republic-estonia-and-finland/
CATEGORIES:European Championships
ATTACH;FMTTYPE=image/png:https://europeansportsconnected.org/wp-content/uploads/2021/04/ev-men-2021.png
ORGANIZER;CN="European Volleyball Confederation (CEV)":MAILTO:info@cev.eu
END:VEVENT
END:VCALENDAR