BEGIN:VCALENDAR
VERSION:2.0
PRODID:-//European Sports Connected - ECPv6.6.0.2//NONSGML v1.0//EN
CALSCALE:GREGORIAN
METHOD:PUBLISH
X-WR-CALNAME:European Sports Connected
X-ORIGINAL-URL:https://europeansportsconnected.org
X-WR-CALDESC:Events for European Sports Connected
REFRESH-INTERVAL;VALUE=DURATION:PT1H
X-Robots-Tag:noindex
X-PUBLISHED-TTL:PT1H
BEGIN:VTIMEZONE
TZID:UTC
BEGIN:STANDARD
TZOFFSETFROM:+0000
TZOFFSETTO:+0000
TZNAME:UTC
DTSTART:20210101T000000
END:STANDARD
END:VTIMEZONE
BEGIN:VEVENT
DTSTART;VALUE=DATE:20211202
DTEND;VALUE=DATE:20211220
DTSTAMP:20260423T153502
CREATED:20210415T120827Z
LAST-MODIFIED:20210415T125205Z
UID:658-1638403200-1639958399@europeansportsconnected.org
SUMMARY:World Women's Handball Championship 2021 Spain
DESCRIPTION:The 2021 World Women’s Handball Championship\, the 25th event by the International Handball Federation\, will be held in Spain from 2 to 19 December 2021. On 18 October 2018\, at a congress in Doha\, Qatar\, the IHF announced that the World Championship would be expanded from 24 teams to 32 teams from 2021 onwards. The Netherlands will be the defending champions after winning for the first time in 2019.
URL:https://europeansportsconnected.org/sports-events/european-judo-championships-2021-lisbon-portugal/
CATEGORIES:World Championships
ATTACH;FMTTYPE=image/png:https://europeansportsconnected.org/wp-content/uploads/2021/04/bafa9690-d578-4f4d-a3db-feb690d2866a.png
ORGANIZER;CN="International Handball Federation":MAILTO:ihf.office@ihf.info
END:VEVENT
END:VCALENDAR