BEGIN:VCALENDAR
VERSION:2.0
PRODID:-//European Sports Connected - ECPv6.6.0.2//NONSGML v1.0//EN
CALSCALE:GREGORIAN
METHOD:PUBLISH
X-WR-CALNAME:European Sports Connected
X-ORIGINAL-URL:https://europeansportsconnected.org
X-WR-CALDESC:Events for European Sports Connected
REFRESH-INTERVAL;VALUE=DURATION:PT1H
X-Robots-Tag:noindex
X-PUBLISHED-TTL:PT1H
BEGIN:VTIMEZONE
TZID:UTC
BEGIN:STANDARD
TZOFFSETFROM:+0000
TZOFFSETTO:+0000
TZNAME:UTC
DTSTART:20210101T000000
END:STANDARD
END:VTIMEZONE
BEGIN:VEVENT
DTSTART;VALUE=DATE:20210417
DTEND;VALUE=DATE:20210419
DTSTAMP:20260424T071543
CREATED:20210415T090339Z
LAST-MODIFIED:20210415T125024Z
UID:616-1618617600-1618790399@europeansportsconnected.org
SUMMARY:ECA European Open Canoe Slalom Cup - 2021 Tacen Slovacia
DESCRIPTION:Bulletin: https://www.canoe-europe.org/preview-file/razpis-za-tacen-2021-ang-4099.pdf \n  \nFriday\, 16. 4. 2021\n9:00-17:00 training by schedule\n17:00-19:00 self equipment control\n17:00-18:00 course construction\n18.00 team leaders meeting / at the course\nSaturday\, 17.4. 2021\n09:00 demonstration run\n10:00 heats-1. run\n13:00 heats-2. run\n16:00-17:00 course construction for Sunday\nSunday\, 18.4. 2021\n09:00 demonstration run\n10:30 semifinals\n13:00 finals\nPrize giving ceremony will take place at the course 30 min aftre end of the race
URL:https://europeansportsconnected.org/sports-events/eca-european-open-canoe-slalom-cup-2021-tacen-slovacia/
CATEGORIES:European Championships
ATTACH;FMTTYPE=image/jpeg:https://europeansportsconnected.org/wp-content/uploads/2021/04/ecaslalomcup-2623.jpg.jpeg
ORGANIZER;CN="ECA European Canoe Association":MAILTO:ecaofficezagreb@gmail.com
END:VEVENT
BEGIN:VEVENT
DTSTART;VALUE=DATE:20210417
DTEND;VALUE=DATE:20210419
DTSTAMP:20260424T071543
CREATED:20210415T123247Z
LAST-MODIFIED:20210415T125034Z
UID:674-1618617600-1618790399@europeansportsconnected.org
SUMMARY:European Judo Championships 2021 Lisbon Portugal
DESCRIPTION:The 2021 European Judo Championships will be held in Lisbon\, Portugal from 16 to 18 April 2021 \n  \nMen’s events\nExtra-lightweight (-60 kg) \nHalf-lightweight (-66 kg) \nLightweight (-73 kg) \nHalf-middleweight (-81 kg) \nMiddleweight (-90 kg) \nHalf-heavyweight (-100 kg) \nHeavyweight (+100 kg) \n  \n  \nWomen’s events Event\nExtra-lightweight (-48 kg) \nHalf-lightweight (-52 kg) \nLightweight (-57 kg) \nHalf-middleweight (-63 kg) \nMiddleweight (-70 kg) \nHalf-heavyweight (-78 kg) \nHeavyweight (+78 kg)
URL:https://europeansportsconnected.org/sports-events/european-judo-championships-2021-lisbon-portugal-2/
CATEGORIES:European Championships
ATTACH;FMTTYPE=image/svg+xml:https://europeansportsconnected.org/wp-content/uploads/2021/04/2021_European_Judo_Championships-1.svg
ORGANIZER;CN="European Judo Union":MAILTO:headoffice@eju.net
END:VEVENT
END:VCALENDAR