BEGIN:VCALENDAR
VERSION:2.0
PRODID:-//European Sports Connected - ECPv6.6.0.2//NONSGML v1.0//EN
CALSCALE:GREGORIAN
METHOD:PUBLISH
X-ORIGINAL-URL:https://europeansportsconnected.org
X-WR-CALDESC:Events for European Sports Connected
REFRESH-INTERVAL;VALUE=DURATION:PT1H
X-Robots-Tag:noindex
X-PUBLISHED-TTL:PT1H
BEGIN:VTIMEZONE
TZID:UTC
BEGIN:STANDARD
TZOFFSETFROM:+0000
TZOFFSETTO:+0000
TZNAME:UTC
DTSTART:20210101T000000
END:STANDARD
END:VTIMEZONE
BEGIN:VEVENT
DTSTART;VALUE=DATE:20211202
DTEND;VALUE=DATE:20211220
DTSTAMP:20260423T153824
CREATED:20210415T120827Z
LAST-MODIFIED:20210415T125205Z
UID:658-1638403200-1639958399@europeansportsconnected.org
SUMMARY:World Women's Handball Championship 2021 Spain
DESCRIPTION:The 2021 World Women’s Handball Championship\, the 25th event by the International Handball Federation\, will be held in Spain from 2 to 19 December 2021. On 18 October 2018\, at a congress in Doha\, Qatar\, the IHF announced that the World Championship would be expanded from 24 teams to 32 teams from 2021 onwards. The Netherlands will be the defending champions after winning for the first time in 2019.
URL:https://europeansportsconnected.org/sports-events/european-judo-championships-2021-lisbon-portugal/
CATEGORIES:World Championships
ATTACH;FMTTYPE=image/png:https://europeansportsconnected.org/wp-content/uploads/2021/04/bafa9690-d578-4f4d-a3db-feb690d2866a.png
ORGANIZER;CN="International Handball Federation":MAILTO:ihf.office@ihf.info
END:VEVENT
BEGIN:VEVENT
DTSTART;VALUE=DATE:20211211
DTEND;VALUE=DATE:20211219
DTSTAMP:20260423T153824
CREATED:20210414T215219Z
LAST-MODIFIED:20210415T130234Z
UID:481-1639180800-1639871999@europeansportsconnected.org
SUMMARY:European Youth Olympic Winter Festival - 2021 - Vuokatti - Finland
DESCRIPTION:The 2021 European Youth Olympic Winter Festival will be held in Vuokatti\, Finland\, between 11 and 18 December 2021. Vuokatti previously hosted 2001 European Youth Olympic Winter Festival. \n  \nThe following competitions will take place. \n\nAlpine Skiing\nBiathlon\nCross Country\nFigure Skating\nIce Hockey\nNordic Combined\nShort Track Speed Skating\nSki Jumping\nSnowboarding
URL:https://europeansportsconnected.org/sports-events/european-youth-olympic-winter-festival-2021-vuokatti-finland/
CATEGORIES:European Youth Olympic Games,Winter Olympic Games
ATTACH;FMTTYPE=image/png:https://europeansportsconnected.org/wp-content/uploads/2021/04/logo-eyof-vuokatti.png
END:VEVENT
BEGIN:VEVENT
DTSTART;TZID=UTC:20220211T080000
DTEND;TZID=UTC:20220212T170000
DTSTAMP:20260423T153824
CREATED:20220125T183301Z
LAST-MODIFIED:20220125T183301Z
UID:62721-1644566400-1644685200@europeansportsconnected.org
SUMMARY:WBSC Europe Congress
DESCRIPTION:WBSC Europe announced to its Members that the 2022 General Congress will take place on February 11 and 12\, 2022\, in Slovenia. \nThe 2022 WBSC Europe General Congress will take place in Slovenia. Either the city of Bled or the city of Ljubljana will host the fourth WBSC Europe Congress. WBSC Europe is finalising the details of the venue with Zveza Za Baseball In Softball Slovenije\, the Slovenian Baseball and Softball Association. Details will be soon sent to the WBSC Europe Members.
URL:https://europeansportsconnected.org/sports-events/wbsc-europe-congress/
ATTACH;FMTTYPE=image/jpeg:https://europeansportsconnected.org/wp-content/uploads/2021/11/21.jpg
ORGANIZER;CN="WBSC Europe":MAILTO:office@wbsc.org
END:VEVENT
END:VCALENDAR