BEGIN:VCALENDAR
VERSION:2.0
PRODID:-//European Sports Connected - ECPv6.6.0.2//NONSGML v1.0//EN
CALSCALE:GREGORIAN
METHOD:PUBLISH
X-ORIGINAL-URL:https://europeansportsconnected.org
X-WR-CALDESC:Events for European Sports Connected
REFRESH-INTERVAL;VALUE=DURATION:PT1H
X-Robots-Tag:noindex
X-PUBLISHED-TTL:PT1H
BEGIN:VTIMEZONE
TZID:UTC
BEGIN:STANDARD
TZOFFSETFROM:+0000
TZOFFSETTO:+0000
TZNAME:UTC
DTSTART:20210101T000000
END:STANDARD
END:VTIMEZONE
BEGIN:VEVENT
DTSTART;VALUE=DATE:20210306
DTEND;VALUE=DATE:20211108
DTSTAMP:20260424T014758
CREATED:20210415T122700Z
LAST-MODIFIED:20210415T125010Z
UID:669-1614988800-1636329599@europeansportsconnected.org
SUMMARY:Rugby Europe Men XV Championship 2021
DESCRIPTION:The Rugby Europe Championship 2021 forms part of the qualification process for the Rugby World Cup 2023 in France.  \nThe new season will start in March 2021 and will take the form of an adapted schedule due to the Covid-19 pandemic and to the postponement of the play-off Match between Netherlands and Belgium\, to be played before June 13th 2021. \n  \n \n 
URL:https://europeansportsconnected.org/sports-events/men-xv-rugby-europe-championship-2021/
CATEGORIES:European Championships
ATTACH;FMTTYPE=image/jpeg:https://europeansportsconnected.org/wp-content/uploads/2021/04/e56ecca6efa592fbfc77152b44b8ec2f4e778bf9.jpg
END:VEVENT
BEGIN:VEVENT
DTSTART;VALUE=DATE:20210506
DTEND;VALUE=DATE:20210510
DTSTAMP:20260424T014759
CREATED:20210415T085657Z
LAST-MODIFIED:20210415T125513Z
UID:611-1620259200-1620604799@europeansportsconnected.org
SUMMARY:ECA Canoe Slalom European Championships - 2021 - Ivrea\, Italy.
DESCRIPTION:The 2021 ECA Canoe Slalom European Championships is scheduled for 6 – 9 May 2021 in Ivrea\, Italy. It will not be just Canoe Slalom European Championships\, but it will also serve as European Olympic Qualifier and it will host the first Extreme Canoe Slalom European Championships in history. \n\n  \n\nEuropean Canoe Association decided to add extreme canoe slalom events to European Championships programme after it was confirmed this discipline will be in the 2024 Paris Olympic Games Programme. Ivrea will therefore become the historic venue and it will see the first Extreme Canoe Slalom European Champions.\n\nHowever\, there will be some changes in competition rules in comparison to extreme canoe slalom events at World Cups and World Championships.\n\nECA confirmed the proposal that the fastest 16 athletes from time trials will progress to the final elimination phase\, regardless on the nationality of the competitors. Up to three athletes from each participating country can enter the time trials in men’s extreme kayak and up to three athletes from each participating country can enter the time trials in women’s extreme kayak.\n\nThere will also be some changes in the course setting. “The course must consist of four (4) to eight (8) downstream gates and may include up to four (4) upstream gates. If the course includes upstream gates\, it must be set in pairs\, symmetrically\, allowing the athlete to choose to negotiate either up right or up left\,” ECA rules state.\n\n  \nBulletin of the 2021 ECA Canoe Slalom European Championships is available here: https://www.canoe-europe.org/preview-file/bullettin-1-def-4109.pdf
URL:https://europeansportsconnected.org/sports-events/eca-canoe-slalom-european-championships-2021-ivrea-italy/
CATEGORIES:European Championships
ATTACH;FMTTYPE=image/png:https://europeansportsconnected.org/wp-content/uploads/2021/04/grafica-def-4205.png.png
ORGANIZER;CN="ECA European Canoe Association":MAILTO:ecaofficezagreb@gmail.com
END:VEVENT
BEGIN:VEVENT
DTSTART;VALUE=DATE:20210510
DTEND;VALUE=DATE:20210524
DTSTAMP:20260424T014759
CREATED:20210415T160430Z
LAST-MODIFIED:20210415T161805Z
UID:740-1620604800-1621814399@europeansportsconnected.org
SUMMARY:LEN European Championships - Artistic Swimming - Diving - Open Water - Swimming 2021 Budapest Hungary
DESCRIPTION:LEN European Championships 5-10th May 2021 Budapest Hungary \nSPORTS \n– Artistic Swimming \n– Diving \n– Open Water \n– Swimming
URL:https://europeansportsconnected.org/sports-events/len-european-championships-artistic-swimming-diving-open-water-swimming-2021-budapest-hungary/
CATEGORIES:European Championships
ATTACH;FMTTYPE=image/png:https://europeansportsconnected.org/wp-content/uploads/2021/04/LogoLEN_115x88.png
END:VEVENT
BEGIN:VEVENT
DTSTART;VALUE=DATE:20210522
DTEND;VALUE=DATE:20210524
DTSTAMP:20260424T014759
CREATED:20210415T084808Z
LAST-MODIFIED:20210415T125536Z
UID:606-1621641600-1621814399@europeansportsconnected.org
SUMMARY:ECA European Open Canoe Slalom Cup - 2021 Liptovsky Mikulaš Slovakia
DESCRIPTION:
URL:https://europeansportsconnected.org/sports-events/eca-european-open-canoe-slalom-cup-2021-liptovsky-mikulas-slovakia/
CATEGORIES:European Championships
ATTACH;FMTTYPE=image/jpeg:https://europeansportsconnected.org/wp-content/uploads/2021/04/ecaslalomcup-2623.jpg.jpeg
ORGANIZER;CN="ECA European Canoe Association":MAILTO:canoe.europe@gmail.com
END:VEVENT
BEGIN:VEVENT
DTSTART;VALUE=DATE:20210522
DTEND;VALUE=DATE:20210523
DTSTAMP:20260424T014759
CREATED:20210415T091642Z
LAST-MODIFIED:20210415T125547Z
UID:623-1621641600-1621727999@europeansportsconnected.org
SUMMARY:ECA Canoe Marathon 2021 - Vohandu Finland
DESCRIPTION:
URL:https://europeansportsconnected.org/sports-events/canoe-marathon-2021-vohandu-finland/
CATEGORIES:European Championships
ATTACH;FMTTYPE=image/jpeg:https://europeansportsconnected.org/wp-content/uploads/2021/04/estmarathon2019-2469.jpg.jpeg
ORGANIZER;CN="ECA European Canoe Association":MAILTO:ecaofficezagreb@gmail.com
END:VEVENT
BEGIN:VEVENT
DTSTART;VALUE=DATE:20210528
DTEND;VALUE=DATE:20210531
DTSTAMP:20260424T014759
CREATED:20210415T090553Z
LAST-MODIFIED:20210415T125524Z
UID:620-1622160000-1622419199@europeansportsconnected.org
SUMMARY:ECA European Open Canoe Slalom Cup - 2021 Merano Italy
DESCRIPTION:
URL:https://europeansportsconnected.org/sports-events/eca-european-open-canoe-slalom-cup-2021-merano-italy/
CATEGORIES:European Championships
ATTACH;FMTTYPE=image/jpeg:https://europeansportsconnected.org/wp-content/uploads/2021/04/ecaslalomcup-2623.jpg.jpeg
ORGANIZER;CN="ECA European Canoe Association":MAILTO:ecaofficezagreb@gmail.com
END:VEVENT
END:VCALENDAR